Workbook

Sheet Invoice
A1: [Your company name] | F1: INVOICE
A2: [Street address, city, state ZIP]
A3: [Phone] · [Billing email] | F3: Invoice number | G3: [e.g. RU-0001]
F4: Invoice date | G4: 46303
A5: BILL TO | F5: Payment terms (days) | G5: 30
A6: [School district name] | F6: Due date | G6: =G4+G5
A7: Attn: [Billing contact] | F7: Invoice month | G7: 46296
A8: [Billing address] | F8: PO / contract number | G8: [PO number]
A9: [Billing email]
A11: School | B11: Route | C11: School days | D11: Days it didn't run | E11: Days billed | F11: Price per day | G11: Amount | H11: Note
A12: Example: Lincoln Elementary | B12: Route 7 | C12: =IF(A12="","",IFERROR(INDEX('School days'!$B$6:$K$6,1,MATCH(A12,'School days'!$B$3:$K$3,0)),"Add the school on School days")) | D12: 1 | E12: =IF(A12="","",IFERROR(C12-IF(D12="",0,D12),"")) | F12: 425 | G12: =IF(A12="","",IFERROR(E12*F12,"")) | H12: Didn't run one day (breakdown)
A13: Example: Lincoln Elementary | B13: Route 8 | C13: =IF(A13="","",IFERROR(INDEX('School days'!$B$6:$K$6,1,MATCH(A13,'School days'!$B$3:$K$3,0)),"Add the school on School days")) | E13: =IF(A13="","",IFERROR(C13-IF(D13="",0,D13),"")) | F13: 380 | G13: =IF(A13="","",IFERROR(E13*F13,""))
A14: Example: Jefferson Middle | B14: Route 12 | C14: =IF(A14="","",IFERROR(INDEX('School days'!$B$6:$K$6,1,MATCH(A14,'School days'!$B$3:$K$3,0)),"Add the school on School days")) | E14: =IF(A14="","",IFERROR(C14-IF(D14="",0,D14),"")) | F14: 450 | G14: =IF(A14="","",IFERROR(E14*F14,""))
C15: =IF(A15="","",IFERROR(INDEX('School days'!$B$6:$K$6,1,MATCH(A15,'School days'!$B$3:$K$3,0)),"Add the school on School days")) | E15: =IF(A15="","",IFERROR(C15-IF(D15="",0,D15),"")) | G15: =IF(A15="","",IFERROR(E15*F15,""))
C16: =IF(A16="","",IFERROR(INDEX('School days'!$B$6:$K$6,1,MATCH(A16,'School days'!$B$3:$K$3,0)),"Add the school on School days")) | E16: =IF(A16="","",IFERROR(C16-IF(D16="",0,D16),"")) | G16: =IF(A16="","",IFERROR(E16*F16,""))
C17: =IF(A17="","",IFERROR(INDEX('School days'!$B$6:$K$6,1,MATCH(A17,'School days'!$B$3:$K$3,0)),"Add the school on School days")) | E17: =IF(A17="","",IFERROR(C17-IF(D17="",0,D17),"")) | G17: =IF(A17="","",IFERROR(E17*F17,""))
C18: =IF(A18="","",IFERROR(INDEX('School days'!$B$6:$K$6,1,MATCH(A18,'School days'!$B$3:$K$3,0)),"Add the school on School days")) | E18: =IF(A18="","",IFERROR(C18-IF(D18="",0,D18),"")) | G18: =IF(A18="","",IFERROR(E18*F18,""))
C19: =IF(A19="","",IFERROR(INDEX('School days'!$B$6:$K$6,1,MATCH(A19,'School days'!$B$3:$K$3,0)),"Add the school on School days")) | E19: =IF(A19="","",IFERROR(C19-IF(D19="",0,D19),"")) | G19: =IF(A19="","",IFERROR(E19*F19,""))
C20: =IF(A20="","",IFERROR(INDEX('School days'!$B$6:$K$6,1,MATCH(A20,'School days'!$B$3:$K$3,0)),"Add the school on School days")) | E20: =IF(A20="","",IFERROR(C20-IF(D20="",0,D20),"")) | G20: =IF(A20="","",IFERROR(E20*F20,""))
C21: =IF(A21="","",IFERROR(INDEX('School days'!$B$6:$K$6,1,MATCH(A21,'School days'!$B$3:$K$3,0)),"Add the school on School days")) | E21: =IF(A21="","",IFERROR(C21-IF(D21="",0,D21),"")) | G21: =IF(A21="","",IFERROR(E21*F21,""))
C22: =IF(A22="","",IFERROR(INDEX('School days'!$B$6:$K$6,1,MATCH(A22,'School days'!$B$3:$K$3,0)),"Add the school on School days")) | E22: =IF(A22="","",IFERROR(C22-IF(D22="",0,D22),"")) | G22: =IF(A22="","",IFERROR(E22*F22,""))
C23: =IF(A23="","",IFERROR(INDEX('School days'!$B$6:$K$6,1,MATCH(A23,'School days'!$B$3:$K$3,0)),"Add the school on School days")) | E23: =IF(A23="","",IFERROR(C23-IF(D23="",0,D23),"")) | G23: =IF(A23="","",IFERROR(E23*F23,""))
C24: =IF(A24="","",IFERROR(INDEX('School days'!$B$6:$K$6,1,MATCH(A24,'School days'!$B$3:$K$3,0)),"Add the school on School days")) | E24: =IF(A24="","",IFERROR(C24-IF(D24="",0,D24),"")) | G24: =IF(A24="","",IFERROR(E24*F24,""))
C25: =IF(A25="","",IFERROR(INDEX('School days'!$B$6:$K$6,1,MATCH(A25,'School days'!$B$3:$K$3,0)),"Add the school on School days")) | E25: =IF(A25="","",IFERROR(C25-IF(D25="",0,D25),"")) | G25: =IF(A25="","",IFERROR(E25*F25,""))
C26: =IF(A26="","",IFERROR(INDEX('School days'!$B$6:$K$6,1,MATCH(A26,'School days'!$B$3:$K$3,0)),"Add the school on School days")) | E26: =IF(A26="","",IFERROR(C26-IF(D26="",0,D26),"")) | G26: =IF(A26="","",IFERROR(E26*F26,""))
... C31: =IF(A31="","",IFERROR(INDEX('School days'!$B$6:$K$6,1,MATCH(A31,'School days'!$B$3:$K$3,0)),"Add the school on School days")) | E31: =IF(A31="","",IFERROR(C31-IF(D31="",0,D31),"")) | G31: =IF(A31="","",IFERROR(E31*F31,""))
A33: ="School days in "&TEXT($G$7,"mmmm yyyy")&" are counted Monday to Friday, without each school's closed days." | F33: Total due | G33: =SUM(G12:G31)
A35: HOW TO PAY
A36: [Checks payable to … and where to mail them; your ACH details. Please quote the invoice number.]
A39: NOTES
A40: [Thank you for your business.]
A43: Free template from FleetCommander — fleet-commander.us. FleetCommander can count, brand, send and track these invoices for you.

Sheet School days
A1: School calendars — one column per school
A2: Type each school's name, first and last day, and every day it's closed (holidays, breaks, snow days, emergency closures) — one date per cell. The invoice counts the school days from here. | M2: School days per month
A3: School name | B3: Example: Lincoln Elementary | C3: Example: Jefferson Middle | M3: Month | N3: =IF(B3="","",B3) | O3: =IF(C3="","",C3) | P3: =IF(D3="","",D3) | Q3: =IF(E3="","",E3) | R3: =IF(F3="","",F3) | S3: =IF(G3="","",G3) | T3: =IF(H3="","",H3) | U3: =IF(I3="","",I3) | ... W3: =IF(K3="","",K3)
A4: First day of school | B4: 46273 | C4: 46273 | M4: 46266 | N4: =IF(OR(B$3="",B$4="",B$5=""),"",MAX(0,NETWORKDAYS(MAX($M4,B$4),MIN(EOMONTH($M4,0),B$5),B$8:B$120))) | O4: =IF(OR(C$3="",C$4="",C$5=""),"",MAX(0,NETWORKDAYS(MAX($M4,C$4),MIN(EOMONTH($M4,0),C$5),C$8:C$120))) | P4: =IF(OR(D$3="",D$4="",D$5=""),"",MAX(0,NETWORKDAYS(MAX($M4,D$4),MIN(EOMONTH($M4,0),D$5),D$8:D$120))) | Q4: =IF(OR(E$3="",E$4="",E$5=""),"",MAX(0,NETWORKDAYS(MAX($M4,E$4),MIN(EOMONTH($M4,0),E$5),E$8:E$120))) | R4: =IF(OR(F$3="",F$4="",F$5=""),"",MAX(0,NETWORKDAYS(MAX($M4,F$4),MIN(EOMONTH($M4,0),F$5),F$8:F$120))) | S4: =IF(OR(G$3="",G$4="",G$5=""),"",MAX(0,NETWORKDAYS(MAX($M4,G$4),MIN(EOMONTH($M4,0),G$5),G$8:G$120))) | T4: =IF(OR(H$3="",H$4="",H$5=""),"",MAX(0,NETWORKDAYS(MAX($M4,H$4),MIN(EOMONTH($M4,0),H$5),H$8:H$120))) | U4: =IF(OR(I$3="",I$4="",I$5=""),"",MAX(0,NETWORKDAYS(MAX($M4,I$4),MIN(EOMONTH($M4,0),I$5),I$8:I$120))) | ... W4: =IF(OR(K$3="",K$4="",K$5=""),"",MAX(0,NETWORKDAYS(MAX($M4,K$4),MIN(EOMONTH($M4,0),K$5),K$8:K$120)))
A5: Last day of school | B5: 46558 | C5: 46558 | M5: 46296 | N5: =IF(OR(B$3="",B$4="",B$5=""),"",MAX(0,NETWORKDAYS(MAX($M5,B$4),MIN(EOMONTH($M5,0),B$5),B$8:B$120))) | O5: =IF(OR(C$3="",C$4="",C$5=""),"",MAX(0,NETWORKDAYS(MAX($M5,C$4),MIN(EOMONTH($M5,0),C$5),C$8:C$120))) | P5: =IF(OR(D$3="",D$4="",D$5=""),"",MAX(0,NETWORKDAYS(MAX($M5,D$4),MIN(EOMONTH($M5,0),D$5),D$8:D$120))) | Q5: =IF(OR(E$3="",E$4="",E$5=""),"",MAX(0,NETWORKDAYS(MAX($M5,E$4),MIN(EOMONTH($M5,0),E$5),E$8:E$120))) | R5: =IF(OR(F$3="",F$4="",F$5=""),"",MAX(0,NETWORKDAYS(MAX($M5,F$4),MIN(EOMONTH($M5,0),F$5),F$8:F$120))) | S5: =IF(OR(G$3="",G$4="",G$5=""),"",MAX(0,NETWORKDAYS(MAX($M5,G$4),MIN(EOMONTH($M5,0),G$5),G$8:G$120))) | T5: =IF(OR(H$3="",H$4="",H$5=""),"",MAX(0,NETWORKDAYS(MAX($M5,H$4),MIN(EOMONTH($M5,0),H$5),H$8:H$120))) | U5: =IF(OR(I$3="",I$4="",I$5=""),"",MAX(0,NETWORKDAYS(MAX($M5,I$4),MIN(EOMONTH($M5,0),I$5),I$8:I$120))) | ... W5: =IF(OR(K$3="",K$4="",K$5=""),"",MAX(0,NETWORKDAYS(MAX($M5,K$4),MIN(EOMONTH($M5,0),K$5),K$8:K$120)))
A6: School days in the invoice month | B6: =IF(OR(B3="",B4="",B5=""),"",MAX(0,NETWORKDAYS(MAX(DATE(YEAR(Invoice!$G$7),MONTH(Invoice!$G$7),1),B4),MIN(EOMONTH(Invoice!$G$7,0),B5),B8:B120))) | C6: =IF(OR(C3="",C4="",C5=""),"",MAX(0,NETWORKDAYS(MAX(DATE(YEAR(Invoice!$G$7),MONTH(Invoice!$G$7),1),C4),MIN(EOMONTH(Invoice!$G$7,0),C5),C8:C120))) | D6: =IF(OR(D3="",D4="",D5=""),"",MAX(0,NETWORKDAYS(MAX(DATE(YEAR(Invoice!$G$7),MONTH(Invoice!$G$7),1),D4),MIN(EOMONTH(Invoice!$G$7,0),D5),D8:D120))) | E6: =IF(OR(E3="",E4="",E5=""),"",MAX(0,NETWORKDAYS(MAX(DATE(YEAR(Invoice!$G$7),MONTH(Invoice!$G$7),1),E4),MIN(EOMONTH(Invoice!$G$7,0),E5),E8:E120))) | F6: =IF(OR(F3="",F4="",F5=""),"",MAX(0,NETWORKDAYS(MAX(DATE(YEAR(Invoice!$G$7),MONTH(Invoice!$G$7),1),F4),MIN(EOMONTH(Invoice!$G$7,0),F5),F8:F120))) | G6: =IF(OR(G3="",G4="",G5=""),"",MAX(0,NETWORKDAYS(MAX(DATE(YEAR(Invoice!$G$7),MONTH(Invoice!$G$7),1),G4),MIN(EOMONTH(Invoice!$G$7,0),G5),G8:G120))) | H6: =IF(OR(H3="",H4="",H5=""),"",MAX(0,NETWORKDAYS(MAX(DATE(YEAR(Invoice!$G$7),MONTH(Invoice!$G$7),1),H4),MIN(EOMONTH(Invoice!$G$7,0),H5),H8:H120))) | I6: =IF(OR(I3="",I4="",I5=""),"",MAX(0,NETWORKDAYS(MAX(DATE(YEAR(Invoice!$G$7),MONTH(Invoice!$G$7),1),I4),MIN(EOMONTH(Invoice!$G$7,0),I5),I8:I120))) | ... K6: =IF(OR(K3="",K4="",K5=""),"",MAX(0,NETWORKDAYS(MAX(DATE(YEAR(Invoice!$G$7),MONTH(Invoice!$G$7),1),K4),MIN(EOMONTH(Invoice!$G$7,0),K5),K8:K120))) | M6: 46327 | N6: =IF(OR(B$3="",B$4="",B$5=""),"",MAX(0,NETWORKDAYS(MAX($M6,B$4),MIN(EOMONTH($M6,0),B$5),B$8:B$120))) | O6: =IF(OR(C$3="",C$4="",C$5=""),"",MAX(0,NETWORKDAYS(MAX($M6,C$4),MIN(EOMONTH($M6,0),C$5),C$8:C$120))) | P6: =IF(OR(D$3="",D$4="",D$5=""),"",MAX(0,NETWORKDAYS(MAX($M6,D$4),MIN(EOMONTH($M6,0),D$5),D$8:D$120))) | Q6: =IF(OR(E$3="",E$4="",E$5=""),"",MAX(0,NETWORKDAYS(MAX($M6,E$4),MIN(EOMONTH($M6,0),E$5),E$8:E$120))) | R6: =IF(OR(F$3="",F$4="",F$5=""),"",MAX(0,NETWORKDAYS(MAX($M6,F$4),MIN(EOMONTH($M6,0),F$5),F$8:F$120))) | S6: =IF(OR(G$3="",G$4="",G$5=""),"",MAX(0,NETWORKDAYS(MAX($M6,G$4),MIN(EOMONTH($M6,0),G$5),G$8:G$120))) | T6: =IF(OR(H$3="",H$4="",H$5=""),"",MAX(0,NETWORKDAYS(MAX($M6,H$4),MIN(EOMONTH($M6,0),H$5),H$8:H$120))) | U6: =IF(OR(I$3="",I$4="",I$5=""),"",MAX(0,NETWORKDAYS(MAX($M6,I$4),MIN(EOMONTH($M6,0),I$5),I$8:I$120))) | ... W6: =IF(OR(K$3="",K$4="",K$5=""),"",MAX(0,NETWORKDAYS(MAX($M6,K$4),MIN(EOMONTH($M6,0),K$5),K$8:K$120)))
A7: Closed days (one date per cell) ↓ | M7: 46357 | N7: =IF(OR(B$3="",B$4="",B$5=""),"",MAX(0,NETWORKDAYS(MAX($M7,B$4),MIN(EOMONTH($M7,0),B$5),B$8:B$120))) | O7: =IF(OR(C$3="",C$4="",C$5=""),"",MAX(0,NETWORKDAYS(MAX($M7,C$4),MIN(EOMONTH($M7,0),C$5),C$8:C$120))) | P7: =IF(OR(D$3="",D$4="",D$5=""),"",MAX(0,NETWORKDAYS(MAX($M7,D$4),MIN(EOMONTH($M7,0),D$5),D$8:D$120))) | Q7: =IF(OR(E$3="",E$4="",E$5=""),"",MAX(0,NETWORKDAYS(MAX($M7,E$4),MIN(EOMONTH($M7,0),E$5),E$8:E$120))) | R7: =IF(OR(F$3="",F$4="",F$5=""),"",MAX(0,NETWORKDAYS(MAX($M7,F$4),MIN(EOMONTH($M7,0),F$5),F$8:F$120))) | S7: =IF(OR(G$3="",G$4="",G$5=""),"",MAX(0,NETWORKDAYS(MAX($M7,G$4),MIN(EOMONTH($M7,0),G$5),G$8:G$120))) | T7: =IF(OR(H$3="",H$4="",H$5=""),"",MAX(0,NETWORKDAYS(MAX($M7,H$4),MIN(EOMONTH($M7,0),H$5),H$8:H$120))) | U7: =IF(OR(I$3="",I$4="",I$5=""),"",MAX(0,NETWORKDAYS(MAX($M7,I$4),MIN(EOMONTH($M7,0),I$5),I$8:I$120))) | ... W7: =IF(OR(K$3="",K$4="",K$5=""),"",MAX(0,NETWORKDAYS(MAX($M7,K$4),MIN(EOMONTH($M7,0),K$5),K$8:K$120)))
B8: 46307 | C8: 46307 | M8: 46388 | N8: =IF(OR(B$3="",B$4="",B$5=""),"",MAX(0,NETWORKDAYS(MAX($M8,B$4),MIN(EOMONTH($M8,0),B$5),B$8:B$120))) | O8: =IF(OR(C$3="",C$4="",C$5=""),"",MAX(0,NETWORKDAYS(MAX($M8,C$4),MIN(EOMONTH($M8,0),C$5),C$8:C$120))) | P8: =IF(OR(D$3="",D$4="",D$5=""),"",MAX(0,NETWORKDAYS(MAX($M8,D$4),MIN(EOMONTH($M8,0),D$5),D$8:D$120))) | Q8: =IF(OR(E$3="",E$4="",E$5=""),"",MAX(0,NETWORKDAYS(MAX($M8,E$4),MIN(EOMONTH($M8,0),E$5),E$8:E$120))) | R8: =IF(OR(F$3="",F$4="",F$5=""),"",MAX(0,NETWORKDAYS(MAX($M8,F$4),MIN(EOMONTH($M8,0),F$5),F$8:F$120))) | S8: =IF(OR(G$3="",G$4="",G$5=""),"",MAX(0,NETWORKDAYS(MAX($M8,G$4),MIN(EOMONTH($M8,0),G$5),G$8:G$120))) | T8: =IF(OR(H$3="",H$4="",H$5=""),"",MAX(0,NETWORKDAYS(MAX($M8,H$4),MIN(EOMONTH($M8,0),H$5),H$8:H$120))) | U8: =IF(OR(I$3="",I$4="",I$5=""),"",MAX(0,NETWORKDAYS(MAX($M8,I$4),MIN(EOMONTH($M8,0),I$5),I$8:I$120))) | ... W8: =IF(OR(K$3="",K$4="",K$5=""),"",MAX(0,NETWORKDAYS(MAX($M8,K$4),MIN(EOMONTH($M8,0),K$5),K$8:K$120)))
B9: 46337 | C9: 46337 | M9: 46419 | N9: =IF(OR(B$3="",B$4="",B$5=""),"",MAX(0,NETWORKDAYS(MAX($M9,B$4),MIN(EOMONTH($M9,0),B$5),B$8:B$120))) | O9: =IF(OR(C$3="",C$4="",C$5=""),"",MAX(0,NETWORKDAYS(MAX($M9,C$4),MIN(EOMONTH($M9,0),C$5),C$8:C$120))) | P9: =IF(OR(D$3="",D$4="",D$5=""),"",MAX(0,NETWORKDAYS(MAX($M9,D$4),MIN(EOMONTH($M9,0),D$5),D$8:D$120))) | Q9: =IF(OR(E$3="",E$4="",E$5=""),"",MAX(0,NETWORKDAYS(MAX($M9,E$4),MIN(EOMONTH($M9,0),E$5),E$8:E$120))) | R9: =IF(OR(F$3="",F$4="",F$5=""),"",MAX(0,NETWORKDAYS(MAX($M9,F$4),MIN(EOMONTH($M9,0),F$5),F$8:F$120))) | S9: =IF(OR(G$3="",G$4="",G$5=""),"",MAX(0,NETWORKDAYS(MAX($M9,G$4),MIN(EOMONTH($M9,0),G$5),G$8:G$120))) | T9: =IF(OR(H$3="",H$4="",H$5=""),"",MAX(0,NETWORKDAYS(MAX($M9,H$4),MIN(EOMONTH($M9,0),H$5),H$8:H$120))) | U9: =IF(OR(I$3="",I$4="",I$5=""),"",MAX(0,NETWORKDAYS(MAX($M9,I$4),MIN(EOMONTH($M9,0),I$5),I$8:I$120))) | ... W9: =IF(OR(K$3="",K$4="",K$5=""),"",MAX(0,NETWORKDAYS(MAX($M9,K$4),MIN(EOMONTH($M9,0),K$5),K$8:K$120)))
B10: 46352 | C10: 46352 | M10: 46447 | N10: =IF(OR(B$3="",B$4="",B$5=""),"",MAX(0,NETWORKDAYS(MAX($M10,B$4),MIN(EOMONTH($M10,0),B$5),B$8:B$120))) | O10: =IF(OR(C$3="",C$4="",C$5=""),"",MAX(0,NETWORKDAYS(MAX($M10,C$4),MIN(EOMONTH($M10,0),C$5),C$8:C$120))) | P10: =IF(OR(D$3="",D$4="",D$5=""),"",MAX(0,NETWORKDAYS(MAX($M10,D$4),MIN(EOMONTH($M10,0),D$5),D$8:D$120))) | Q10: =IF(OR(E$3="",E$4="",E$5=""),"",MAX(0,NETWORKDAYS(MAX($M10,E$4),MIN(EOMONTH($M10,0),E$5),E$8:E$120))) | R10: =IF(OR(F$3="",F$4="",F$5=""),"",MAX(0,NETWORKDAYS(MAX($M10,F$4),MIN(EOMONTH($M10,0),F$5),F$8:F$120))) | S10: =IF(OR(G$3="",G$4="",G$5=""),"",MAX(0,NETWORKDAYS(MAX($M10,G$4),MIN(EOMONTH($M10,0),G$5),G$8:G$120))) | T10: =IF(OR(H$3="",H$4="",H$5=""),"",MAX(0,NETWORKDAYS(MAX($M10,H$4),MIN(EOMONTH($M10,0),H$5),H$8:H$120))) | U10: =IF(OR(I$3="",I$4="",I$5=""),"",MAX(0,NETWORKDAYS(MAX($M10,I$4),MIN(EOMONTH($M10,0),I$5),I$8:I$120))) | ... W10: =IF(OR(K$3="",K$4="",K$5=""),"",MAX(0,NETWORKDAYS(MAX($M10,K$4),MIN(EOMONTH($M10,0),K$5),K$8:K$120)))
B11: 46353 | C11: 46353 | M11: 46478 | N11: =IF(OR(B$3="",B$4="",B$5=""),"",MAX(0,NETWORKDAYS(MAX($M11,B$4),MIN(EOMONTH($M11,0),B$5),B$8:B$120))) | O11: =IF(OR(C$3="",C$4="",C$5=""),"",MAX(0,NETWORKDAYS(MAX($M11,C$4),MIN(EOMONTH($M11,0),C$5),C$8:C$120))) | P11: =IF(OR(D$3="",D$4="",D$5=""),"",MAX(0,NETWORKDAYS(MAX($M11,D$4),MIN(EOMONTH($M11,0),D$5),D$8:D$120))) | Q11: =IF(OR(E$3="",E$4="",E$5=""),"",MAX(0,NETWORKDAYS(MAX($M11,E$4),MIN(EOMONTH($M11,0),E$5),E$8:E$120))) | R11: =IF(OR(F$3="",F$4="",F$5=""),"",MAX(0,NETWORKDAYS(MAX($M11,F$4),MIN(EOMONTH($M11,0),F$5),F$8:F$120))) | S11: =IF(OR(G$3="",G$4="",G$5=""),"",MAX(0,NETWORKDAYS(MAX($M11,G$4),MIN(EOMONTH($M11,0),G$5),G$8:G$120))) | T11: =IF(OR(H$3="",H$4="",H$5=""),"",MAX(0,NETWORKDAYS(MAX($M11,H$4),MIN(EOMONTH($M11,0),H$5),H$8:H$120))) | U11: =IF(OR(I$3="",I$4="",I$5=""),"",MAX(0,NETWORKDAYS(MAX($M11,I$4),MIN(EOMONTH($M11,0),I$5),I$8:I$120))) | ... W11: =IF(OR(K$3="",K$4="",K$5=""),"",MAX(0,NETWORKDAYS(MAX($M11,K$4),MIN(EOMONTH($M11,0),K$5),K$8:K$120)))
B12: 46379 | C12: 46379 | M12: 46508 | N12: =IF(OR(B$3="",B$4="",B$5=""),"",MAX(0,NETWORKDAYS(MAX($M12,B$4),MIN(EOMONTH($M12,0),B$5),B$8:B$120))) | O12: =IF(OR(C$3="",C$4="",C$5=""),"",MAX(0,NETWORKDAYS(MAX($M12,C$4),MIN(EOMONTH($M12,0),C$5),C$8:C$120))) | P12: =IF(OR(D$3="",D$4="",D$5=""),"",MAX(0,NETWORKDAYS(MAX($M12,D$4),MIN(EOMONTH($M12,0),D$5),D$8:D$120))) | Q12: =IF(OR(E$3="",E$4="",E$5=""),"",MAX(0,NETWORKDAYS(MAX($M12,E$4),MIN(EOMONTH($M12,0),E$5),E$8:E$120))) | R12: =IF(OR(F$3="",F$4="",F$5=""),"",MAX(0,NETWORKDAYS(MAX($M12,F$4),MIN(EOMONTH($M12,0),F$5),F$8:F$120))) | S12: =IF(OR(G$3="",G$4="",G$5=""),"",MAX(0,NETWORKDAYS(MAX($M12,G$4),MIN(EOMONTH($M12,0),G$5),G$8:G$120))) | T12: =IF(OR(H$3="",H$4="",H$5=""),"",MAX(0,NETWORKDAYS(MAX($M12,H$4),MIN(EOMONTH($M12,0),H$5),H$8:H$120))) | U12: =IF(OR(I$3="",I$4="",I$5=""),"",MAX(0,NETWORKDAYS(MAX($M12,I$4),MIN(EOMONTH($M12,0),I$5),I$8:I$120))) | ... W12: =IF(OR(K$3="",K$4="",K$5=""),"",MAX(0,NETWORKDAYS(MAX($M12,K$4),MIN(EOMONTH($M12,0),K$5),K$8:K$120)))
B13: 46380 | C13: 46380 | M13: 46539 | N13: =IF(OR(B$3="",B$4="",B$5=""),"",MAX(0,NETWORKDAYS(MAX($M13,B$4),MIN(EOMONTH($M13,0),B$5),B$8:B$120))) | O13: =IF(OR(C$3="",C$4="",C$5=""),"",MAX(0,NETWORKDAYS(MAX($M13,C$4),MIN(EOMONTH($M13,0),C$5),C$8:C$120))) | P13: =IF(OR(D$3="",D$4="",D$5=""),"",MAX(0,NETWORKDAYS(MAX($M13,D$4),MIN(EOMONTH($M13,0),D$5),D$8:D$120))) | Q13: =IF(OR(E$3="",E$4="",E$5=""),"",MAX(0,NETWORKDAYS(MAX($M13,E$4),MIN(EOMONTH($M13,0),E$5),E$8:E$120))) | R13: =IF(OR(F$3="",F$4="",F$5=""),"",MAX(0,NETWORKDAYS(MAX($M13,F$4),MIN(EOMONTH($M13,0),F$5),F$8:F$120))) | S13: =IF(OR(G$3="",G$4="",G$5=""),"",MAX(0,NETWORKDAYS(MAX($M13,G$4),MIN(EOMONTH($M13,0),G$5),G$8:G$120))) | T13: =IF(OR(H$3="",H$4="",H$5=""),"",MAX(0,NETWORKDAYS(MAX($M13,H$4),MIN(EOMONTH($M13,0),H$5),H$8:H$120))) | U13: =IF(OR(I$3="",I$4="",I$5=""),"",MAX(0,NETWORKDAYS(MAX($M13,I$4),MIN(EOMONTH($M13,0),I$5),I$8:I$120))) | ... W13: =IF(OR(K$3="",K$4="",K$5=""),"",MAX(0,NETWORKDAYS(MAX($M13,K$4),MIN(EOMONTH($M13,0),K$5),K$8:K$120)))
B14: 46381 | C14: 46381 | M14: School year | N14: =IF(N3="","",SUM(N4:N13)) | O14: =IF(O3="","",SUM(O4:O13)) | P14: =IF(P3="","",SUM(P4:P13)) | Q14: =IF(Q3="","",SUM(Q4:Q13)) | R14: =IF(R3="","",SUM(R4:R13)) | S14: =IF(S3="","",SUM(S4:S13)) | T14: =IF(T3="","",SUM(T4:T13)) | U14: =IF(U3="","",SUM(U4:U13)) | ... W14: =IF(W3="","",SUM(W4:W13))
B15: 46384 | C15: 46384
B16: 46385 | C16: 46385
B17: 46386 | C17: 46386
B18: 46387 | C18: 46387
B19: 46388 | C19: 46388
B20: 46405 | C20: 46405
B21: 46433 | C21: 46433
B22: 46538 | C22: 46538
B23: 46556 | C23: 46556
B24: 46428

Sheet How to use
A1: School district invoice template — free from FleetCommander (fleet-commander.us)
A3: 1. School days sheet: one column per school. Type its name, first and last day, and every closed day (one date per cell).
A4: The two example schools come with the 2026–27 federal holidays, the day after Thanksgiving and winter break filled in, and one example snow day. Change them to your schools' calendars.
A5: 2. Invoice sheet: fill in your company, the district, the invoice number, the invoice month and the payment terms (the due date works itself out).
A6: 3. One line per route: pick the school, type the route and its price per school day. School days are counted for you (Monday to Friday, minus closed days).
A7: 4. If a route didn't run on a school day, type how many days under "Days it didn't run" and say why in the note — those days aren't billed.
A8: 5. Replace the example lines, fill in How to pay, then save as PDF (File › Save As or Print › Save as PDF) and email it to the district.
A10: Yellow cells are for you to fill in. Everything else is worked out.
A11: School days per month are on the right of the School days sheet, to check the counts.
A13: FleetCommander does all of this for you: school calendars, each route's school days × its price per day, days a route didn't run flagged from driver clock-ins and student attendance, branded PDF invoices emailed to the district, and payments tracked.
A14: See https://fleet-commander.us/features/school-district-invoicing
